BEGIN:VCALENDAR
VERSION:2.0
PRODID:-//The River Foss Society - ECPv6.13.2.1//NONSGML v1.0//EN
CALSCALE:GREGORIAN
METHOD:PUBLISH
X-WR-CALNAME:The River Foss Society
X-ORIGINAL-URL:https://www.riverfosssociety.co.uk
X-WR-CALDESC:Events for The River Foss Society
REFRESH-INTERVAL;VALUE=DURATION:PT1H
X-Robots-Tag:noindex
X-PUBLISHED-TTL:PT1H
BEGIN:VTIMEZONE
TZID:Europe/London
BEGIN:DAYLIGHT
TZOFFSETFROM:+0000
TZOFFSETTO:+0100
TZNAME:BST
DTSTART:20260329T010000
END:DAYLIGHT
BEGIN:STANDARD
TZOFFSETFROM:+0100
TZOFFSETTO:+0000
TZNAME:GMT
DTSTART:20261025T010000
END:STANDARD
END:VTIMEZONE
BEGIN:VEVENT
DTSTART;TZID=Europe/London:20260426T103000
DTEND;TZID=Europe/London:20260426T150000
DTSTAMP:20260426T015320
CREATED:20260401T095210Z
LAST-MODIFIED:20260401T095210Z
UID:4371-1777199400-1777215600@www.riverfosssociety.co.uk
SUMMARY:York City Nature Challenge
DESCRIPTION:
URL:https://www.riverfosssociety.co.uk/event/york-city-nature-challenge-2/
LOCATION:Hound Lounge cafe YO32 4BN\, YO32 4BN
END:VEVENT
END:VCALENDAR